BEGIN:VCALENDAR
VERSION:2.0
PRODID:-//Game N Grounds - Gaming in Chatsworth - ECPv6.9.0//NONSGML v1.0//EN
CALSCALE:GREGORIAN
METHOD:PUBLISH
X-WR-CALNAME:Game N Grounds - Gaming in Chatsworth
X-ORIGINAL-URL:https://gamengrounds.com
X-WR-CALDESC:Events for Game N Grounds - Gaming in Chatsworth
REFRESH-INTERVAL;VALUE=DURATION:PT1H
X-Robots-Tag:noindex
X-PUBLISHED-TTL:PT1H
BEGIN:VTIMEZONE
TZID:America/Los_Angeles
BEGIN:DAYLIGHT
TZOFFSETFROM:-0800
TZOFFSETTO:-0700
TZNAME:PDT
DTSTART:20250309T100000
END:DAYLIGHT
BEGIN:STANDARD
TZOFFSETFROM:-0700
TZOFFSETTO:-0800
TZNAME:PST
DTSTART:20251102T090000
END:STANDARD
END:VTIMEZONE
BEGIN:VEVENT
DTSTART;TZID=America/Los_Angeles:20251115T160000
DTEND;TZID=America/Los_Angeles:20251115T200000
DTSTAMP:20260420T052036
CREATED:20251102T033406Z
LAST-MODIFIED:20251103T044648Z
UID:5336-1763222400-1763236800@gamengrounds.com
SUMMARY:Avatar the Last Airbender MTG Prerelease! 11/15
DESCRIPTION:Pull up in your cabbage cart and bend your way to victory! Come have fun and learn the new set! It’s the quenchiest. \nBring a friend\, the format is 2 Headed Giant! \nPlayers will use 6 play booster packs\, not character themed kits.
URL:https://gamengrounds.com/event/avatar-the-last-airbender-mtg-prerelease-11-15/
ATTACH;FMTTYPE=image/png:https://gamengrounds.com/wp-content/uploads/2025/11/Untitled-design-2.png
END:VEVENT
END:VCALENDAR