BEGIN:VCALENDAR
VERSION:2.0
PRODID:-//Game N Grounds - Gaming in Chatsworth - ECPv6.9.0//NONSGML v1.0//EN
CALSCALE:GREGORIAN
METHOD:PUBLISH
X-WR-CALNAME:Game N Grounds - Gaming in Chatsworth
X-ORIGINAL-URL:https://gamengrounds.com
X-WR-CALDESC:Events for Game N Grounds - Gaming in Chatsworth
REFRESH-INTERVAL;VALUE=DURATION:PT1H
X-Robots-Tag:noindex
X-PUBLISHED-TTL:PT1H
BEGIN:VTIMEZONE
TZID:America/Los_Angeles
BEGIN:DAYLIGHT
TZOFFSETFROM:-0800
TZOFFSETTO:-0700
TZNAME:PDT
DTSTART:20260308T100000
END:DAYLIGHT
BEGIN:STANDARD
TZOFFSETFROM:-0700
TZOFFSETTO:-0800
TZNAME:PST
DTSTART:20261101T090000
END:STANDARD
END:VTIMEZONE
BEGIN:VEVENT
DTSTART;TZID=America/Los_Angeles:20260418T130000
DTEND;TZID=America/Los_Angeles:20260418T150000
DTSTAMP:20260422T205522
CREATED:20250426T005356Z
LAST-MODIFIED:20260330T221131Z
UID:3848-1776517200-1776524400@gamengrounds.com
SUMMARY:Dice Throne Tournament
DESCRIPTION:Game n’ Grounds is hosting official Dice Throne ranked Tournaments! \nThis tournament will include promo cards to each participant as well as a $10.00 cost to join the Tournament. There will be store prizes for the top 4 players! \nWe will be using Challonge to run the tournament\, so make sure you have an account set up. \nThe tournament will be bring 3 ban 1 format\, in which you bring 3 hero’s and you will get to ban one hero from your opponents 3 and they will get to ban one of yours.. This will be a swiss round tournament with the number of rounds to be determined by the number of participants. Rounds are times at 30 mins each. \nTournament participants must be 10 years of age or older\, if between the ages of 10 and 14 we ask that a guardian stays with the child during the tournament. \nOriginal print run of Dice Throne Heroes (6 hero box published by Mind Bottling Games or Roxley Games)\, Mythic Cards\, Promo cards (this does not include alternate art cards)\, Old hero leaflets will NOT be allowed in the tournament. The card “Buh\, Bye!” will be banned from tournament play. The Tactician\, Vampire\, and Huntress all have updated leaflets that can be found on the official Dice Throne page. \nIf you have any questions\, please refer to the official Dice Throne page or email www.info@gamengrounds.com \nPayment will be collected at the store
URL:https://gamengrounds.com/event/dice-throne-age-of-fortitude-ranked-tournament/
ATTACH;FMTTYPE=image/png:https://gamengrounds.com/wp-content/uploads/2025/04/Rockstone-600-x-300-px.png
END:VEVENT
END:VCALENDAR