BEGIN:VCALENDAR
VERSION:2.0
PRODID:-//Game N Grounds - Gaming in Chatsworth - ECPv6.9.0//NONSGML v1.0//EN
CALSCALE:GREGORIAN
METHOD:PUBLISH
X-WR-CALNAME:Game N Grounds - Gaming in Chatsworth
X-ORIGINAL-URL:https://gamengrounds.com
X-WR-CALDESC:Events for Game N Grounds - Gaming in Chatsworth
REFRESH-INTERVAL;VALUE=DURATION:PT1H
X-Robots-Tag:noindex
X-PUBLISHED-TTL:PT1H
BEGIN:VTIMEZONE
TZID:America/Los_Angeles
BEGIN:DAYLIGHT
TZOFFSETFROM:-0800
TZOFFSETTO:-0700
TZNAME:PDT
DTSTART:20240310T100000
END:DAYLIGHT
BEGIN:STANDARD
TZOFFSETFROM:-0700
TZOFFSETTO:-0800
TZNAME:PST
DTSTART:20241103T090000
END:STANDARD
END:VTIMEZONE
BEGIN:VEVENT
DTSTART;TZID=America/Los_Angeles:20240418T183000
DTEND;TZID=America/Los_Angeles:20240418T183000
DTSTAMP:20260419T204658
CREATED:20240407T041922Z
LAST-MODIFIED:20240409T040403Z
UID:1809-1713465000-1713465000@gamengrounds.com
SUMMARY:Family Fun Comedy Magic Show
DESCRIPTION:Want to see some real magic? Then come down to Game n’ Grounds and enjoy the show! Micah and Frank will put on a family friendly comedy magic show just for you….and you can enjoy the food and drink at Gn’G at the same time\, can’t beat that!   🙂
URL:https://gamengrounds.com/event/family-fun-comedy-magic-show/
ATTACH;FMTTYPE=image/jpeg:https://gamengrounds.com/wp-content/uploads/2024/04/magic-show.jpg
END:VEVENT
END:VCALENDAR