BEGIN:VCALENDAR
VERSION:2.0
PRODID:-//Game N Grounds - Gaming in Chatsworth - ECPv6.9.0//NONSGML v1.0//EN
CALSCALE:GREGORIAN
METHOD:PUBLISH
X-WR-CALNAME:Game N Grounds - Gaming in Chatsworth
X-ORIGINAL-URL:https://gamengrounds.com
X-WR-CALDESC:Events for Game N Grounds - Gaming in Chatsworth
REFRESH-INTERVAL;VALUE=DURATION:PT1H
X-Robots-Tag:noindex
X-PUBLISHED-TTL:PT1H
BEGIN:VTIMEZONE
TZID:America/Los_Angeles
BEGIN:DAYLIGHT
TZOFFSETFROM:-0800
TZOFFSETTO:-0700
TZNAME:PDT
DTSTART:20260308T100000
END:DAYLIGHT
BEGIN:STANDARD
TZOFFSETFROM:-0700
TZOFFSETTO:-0800
TZNAME:PST
DTSTART:20261101T090000
END:STANDARD
END:VTIMEZONE
BEGIN:VEVENT
DTSTART;TZID=America/Los_Angeles:20260426T160000
DTEND;TZID=America/Los_Angeles:20260426T200000
DTSTAMP:20260421T053248
CREATED:20260418T034134Z
LAST-MODIFIED:20260418T034134Z
UID:6645-1777219200-1777233600@gamengrounds.com
SUMMARY:Into The Odd: Mystery on Big Rock Candy Mountain
DESCRIPTION:Far from the lonely city of Bastion\, deep in woods older than dreams\, lies Big Rock Candy Mountain. Deep in the depths of this mountain lies a town forgotten from history\, with secrets of its own… Are you and your party of ner do wells brave enough to delve into the heart of the mountain and uncover… the Mystery on Big Rock Candy mountain \nCome step into a world of bravery and danger with the easy-to-learn iconic tabletop RPG\, Into the Odd! This rules-light low-fantasy game invites you to delve into a world of industrial horror and cosmic strangeness. A world where every quest can turn into your last\, but the rewards are more than worth the risk. This session will cover the quick and easy process of character creation\, and then launch you into an iconic adventure where nothing is what it seems… \nAll game materials are provided\, just bring yourself\, a set of dice\, pencils\, and your imagination. \nThe GM for this session is: Riley \nAny questions? You can email us at Info@gamengrounds.com or join our discord and ask our roleplaying community.
URL:https://gamengrounds.com/event/into-the-odd-mystery-on-big-rock-candy-mountain/
ATTACH;FMTTYPE=image/webp:https://gamengrounds.com/wp-content/uploads/2026/03/into-the-odd.webp
END:VEVENT
END:VCALENDAR