BEGIN:VCALENDAR
VERSION:2.0
PRODID:-//Game N Grounds - Gaming in Chatsworth - ECPv6.9.0//NONSGML v1.0//EN
CALSCALE:GREGORIAN
METHOD:PUBLISH
X-WR-CALNAME:Game N Grounds - Gaming in Chatsworth
X-ORIGINAL-URL:https://gamengrounds.com
X-WR-CALDESC:Events for Game N Grounds - Gaming in Chatsworth
REFRESH-INTERVAL;VALUE=DURATION:PT1H
X-Robots-Tag:noindex
X-PUBLISHED-TTL:PT1H
BEGIN:VTIMEZONE
TZID:America/Los_Angeles
BEGIN:DAYLIGHT
TZOFFSETFROM:-0800
TZOFFSETTO:-0700
TZNAME:PDT
DTSTART:20240310T100000
END:DAYLIGHT
BEGIN:STANDARD
TZOFFSETFROM:-0700
TZOFFSETTO:-0800
TZNAME:PST
DTSTART:20241103T090000
END:STANDARD
END:VTIMEZONE
BEGIN:VEVENT
DTSTART;VALUE=DATE:20240818
DTEND;VALUE=DATE:20240909
DTSTAMP:20260423T070334
CREATED:20240517T174020Z
LAST-MODIFIED:20240816T193312Z
UID:2369-1723939200-1725839999@gamengrounds.com
SUMMARY:Lorcana Ursula's Return Sealed League!
DESCRIPTION:The Disney Lorcana League emphasizes fun and community over competition and winning. League play takes place over 12 weeks and is designed for casual play and collectors. A great way to learn and have fun with the game. If you are new to Lorcana\, this event is for you! You will receive 6 Ursula’s Return booster packs in which to build a 40 card deck and challenge other players participating in the Sealed league. If you never have played\, we are happy to teach you how to…just come on in and have fun! \nThe League will be open to players on Sundays 2pm to 6pm. Your decks will be held safely with us and given to you whenever you come in during league days/hours. We will also track your point totals each month and then give away prizes and exclusive promos and pins to participants based on their point totals. \nPlayers collect points\, win or lose\, by participating in Disney Lorcana matches (best two of three games). Points can also be earned through Lorcana-related activities\, such as teaching someone how to play Lorcana or completing tasks while in a match. Prizes are awarded to most or all League participants; top finishers receive a small additional prize as well. \nSome notes: \nA league round is four consecutive weeks of play and activities. A season is 12 weeks. You can join the league at anytime during the season. Each round will feature a different format with different objectives. This is event is meant to be casual and encourage fun and camaraderie. \nPlease ask us if you have any questions.
URL:https://gamengrounds.com/event/lorcana-ursulas-return-sealed-league/
ATTACH;FMTTYPE=image/png:https://gamengrounds.com/wp-content/uploads/2024/05/Disney-Lorcana-Legue-is-starting-up.png
END:VEVENT
END:VCALENDAR