BEGIN:VCALENDAR
VERSION:2.0
PRODID:-//Game N Grounds - Gaming in Chatsworth - ECPv6.9.0//NONSGML v1.0//EN
CALSCALE:GREGORIAN
METHOD:PUBLISH
X-WR-CALNAME:Game N Grounds - Gaming in Chatsworth
X-ORIGINAL-URL:https://gamengrounds.com
X-WR-CALDESC:Events for Game N Grounds - Gaming in Chatsworth
REFRESH-INTERVAL;VALUE=DURATION:PT1H
X-Robots-Tag:noindex
X-PUBLISHED-TTL:PT1H
BEGIN:VTIMEZONE
TZID:America/Los_Angeles
BEGIN:DAYLIGHT
TZOFFSETFROM:-0800
TZOFFSETTO:-0700
TZNAME:PDT
DTSTART:20260308T100000
END:DAYLIGHT
BEGIN:STANDARD
TZOFFSETFROM:-0700
TZOFFSETTO:-0800
TZNAME:PST
DTSTART:20261101T090000
END:STANDARD
END:VTIMEZONE
BEGIN:VEVENT
DTSTART;TZID=America/Los_Angeles:20260207T170000
DTEND;TZID=America/Los_Angeles:20260207T210000
DTSTAMP:20260424T093838
CREATED:20260201T011252Z
LAST-MODIFIED:20260201T014450Z
UID:5918-1770483600-1770498000@gamengrounds.com
SUMMARY:Mothership RPG
DESCRIPTION:Bugs\, body horror\, and the unknown. Join a mission to discover what’s been happening on a derelict space station facing terror and distress in the far reaches of the galaxy. In this introductory session to the Mothership RPG system\, we will create characters on the fly and expect to die (or worse)\, but clever thinking and a positive attitude will get you far. No experience needed\, just bring a pencil\, your wits\, and keep in mind the following content warnings: \n-arachnophobia \n-body horror \n-mind control \n-violence \n-claustrophobia \nHosted by Agnes!
URL:https://gamengrounds.com/event/mothership-rpg/
ATTACH;FMTTYPE=image/jpeg:https://gamengrounds.com/wp-content/uploads/2026/01/mothership.jpg
END:VEVENT
END:VCALENDAR