BEGIN:VCALENDAR
VERSION:2.0
PRODID:-//Game N Grounds - Gaming in Chatsworth - ECPv6.9.0//NONSGML v1.0//EN
CALSCALE:GREGORIAN
METHOD:PUBLISH
X-WR-CALNAME:Game N Grounds - Gaming in Chatsworth
X-ORIGINAL-URL:https://gamengrounds.com
X-WR-CALDESC:Events for Game N Grounds - Gaming in Chatsworth
REFRESH-INTERVAL;VALUE=DURATION:PT1H
X-Robots-Tag:noindex
X-PUBLISHED-TTL:PT1H
BEGIN:VTIMEZONE
TZID:America/Los_Angeles
BEGIN:DAYLIGHT
TZOFFSETFROM:-0800
TZOFFSETTO:-0700
TZNAME:PDT
DTSTART:20240310T100000
END:DAYLIGHT
BEGIN:STANDARD
TZOFFSETFROM:-0700
TZOFFSETTO:-0800
TZNAME:PST
DTSTART:20241103T090000
END:STANDARD
END:VTIMEZONE
BEGIN:VEVENT
DTSTART;TZID=America/Los_Angeles:20240425T180000
DTEND;TZID=America/Los_Angeles:20240425T210000
DTSTAMP:20260422T032214
CREATED:20240417T175527Z
LAST-MODIFIED:20240417T175624Z
UID:1915-1714068000-1714078800@gamengrounds.com
SUMMARY:Open Mic Night
DESCRIPTION:We also have an open mic night and I will give you details but can wait until you are back and teach me too.  April 25th RSVP no min. \n“Whether you want to perform or enjoy watching others perform… this event is truly special and a treat that we get to host it.” \n“Please email info@gamengrounds.com if you would like to perform.”
URL:https://gamengrounds.com/event/open-mic-night/
ATTACH;FMTTYPE=image/png:https://gamengrounds.com/wp-content/uploads/2024/04/Copy-of-Every-Saturday-copy.png
END:VEVENT
END:VCALENDAR