BEGIN:VCALENDAR
VERSION:2.0
PRODID:-//Game N Grounds - Gaming in Chatsworth - ECPv6.9.0//NONSGML v1.0//EN
CALSCALE:GREGORIAN
METHOD:PUBLISH
X-WR-CALNAME:Game N Grounds - Gaming in Chatsworth
X-ORIGINAL-URL:https://gamengrounds.com
X-WR-CALDESC:Events for Game N Grounds - Gaming in Chatsworth
REFRESH-INTERVAL;VALUE=DURATION:PT1H
X-Robots-Tag:noindex
X-PUBLISHED-TTL:PT1H
BEGIN:VTIMEZONE
TZID:America/Los_Angeles
BEGIN:DAYLIGHT
TZOFFSETFROM:-0800
TZOFFSETTO:-0700
TZNAME:PDT
DTSTART:20260308T100000
END:DAYLIGHT
BEGIN:STANDARD
TZOFFSETFROM:-0700
TZOFFSETTO:-0800
TZNAME:PST
DTSTART:20261101T090000
END:STANDARD
END:VTIMEZONE
BEGIN:VEVENT
DTSTART;TZID=America/Los_Angeles:20260224T180000
DTEND;TZID=America/Los_Angeles:20260224T200000
DTSTAMP:20260421T012912
CREATED:20260222T020919Z
LAST-MODIFIED:20260222T020919Z
UID:6029-1771956000-1771963200@gamengrounds.com
SUMMARY:Pathfinder 2E Beginners Box
DESCRIPTION:Looking for an alternative to D&D? New to roleplaying games and want a game that can support your boundless creativity? Looking for a good time and to meet some new friends? Sign up to the Pathfinder 2E Beginner Box! In this session we will go over the basics of the most popular alternative to D&D and play through a basic adventure using pre-generated characters. Join us\, and take the first step into an amazing world of fantasy adventure! \nThe GM for this session is: Riley \nAny questions? You can email us at Info@gamengrounds.com or join our discord and ask our roleplaying community.
URL:https://gamengrounds.com/event/pathfinder-2e-beginners-box-2/
ATTACH;FMTTYPE=image/png:https://gamengrounds.com/wp-content/uploads/2025/04/Back-and-Yellow-Relaxed-Open-Mic-Bar-Poster-600-x-300-px-1.png
END:VEVENT
END:VCALENDAR