BEGIN:VCALENDAR
VERSION:2.0
PRODID:-//Game N Grounds - Gaming in Chatsworth - ECPv6.9.0//NONSGML v1.0//EN
CALSCALE:GREGORIAN
METHOD:PUBLISH
X-WR-CALNAME:Game N Grounds - Gaming in Chatsworth
X-ORIGINAL-URL:https://gamengrounds.com
X-WR-CALDESC:Events for Game N Grounds - Gaming in Chatsworth
REFRESH-INTERVAL;VALUE=DURATION:PT1H
X-Robots-Tag:noindex
X-PUBLISHED-TTL:PT1H
BEGIN:VTIMEZONE
TZID:America/Los_Angeles
BEGIN:DAYLIGHT
TZOFFSETFROM:-0800
TZOFFSETTO:-0700
TZNAME:PDT
DTSTART:20250309T100000
END:DAYLIGHT
BEGIN:STANDARD
TZOFFSETFROM:-0700
TZOFFSETTO:-0800
TZNAME:PST
DTSTART:20251102T090000
END:STANDARD
END:VTIMEZONE
BEGIN:VEVENT
DTSTART;TZID=America/Los_Angeles:20251013T180000
DTEND;TZID=America/Los_Angeles:20251013T200000
DTSTAMP:20260421T024036
CREATED:20251013T000030Z
LAST-MODIFIED:20251013T000116Z
UID:5186-1760378400-1760385600@gamengrounds.com
SUMMARY:Pierce College Poetry and Music Night!
DESCRIPTION:Come join us to hear some amazing poetry from the creative students of Pierce college! There will also be a few musical guests performing acoustic music! It should be a really fun night!
URL:https://gamengrounds.com/event/pierce-college-poetry-and-music-night/
ATTACH;FMTTYPE=image/png:https://gamengrounds.com/wp-content/uploads/2025/10/unnamed-file.png
END:VEVENT
END:VCALENDAR