BEGIN:VCALENDAR
VERSION:2.0
PRODID:-//Game N Grounds - Gaming in Chatsworth - ECPv6.9.0//NONSGML v1.0//EN
CALSCALE:GREGORIAN
METHOD:PUBLISH
X-WR-CALNAME:Game N Grounds - Gaming in Chatsworth
X-ORIGINAL-URL:https://gamengrounds.com
X-WR-CALDESC:Events for Game N Grounds - Gaming in Chatsworth
REFRESH-INTERVAL;VALUE=DURATION:PT1H
X-Robots-Tag:noindex
X-PUBLISHED-TTL:PT1H
BEGIN:VTIMEZONE
TZID:America/Los_Angeles
BEGIN:DAYLIGHT
TZOFFSETFROM:-0800
TZOFFSETTO:-0700
TZNAME:PDT
DTSTART:20260308T100000
END:DAYLIGHT
BEGIN:STANDARD
TZOFFSETFROM:-0700
TZOFFSETTO:-0800
TZNAME:PST
DTSTART:20261101T090000
END:STANDARD
END:VTIMEZONE
BEGIN:VEVENT
DTSTART;TZID=America/Los_Angeles:20260214T180000
DTEND;TZID=America/Los_Angeles:20260214T220000
DTSTAMP:20260423T215132
CREATED:20260129T004411Z
LAST-MODIFIED:20260129T004411Z
UID:5899-1771092000-1771106400@gamengrounds.com
SUMMARY:Singles Night! Feb 14
DESCRIPTION:This is our first ever Singles Night at Game N Grounds! If there are enough participants\, we can pair you up and play get-to-know-eachother games! Drink some alcohol! Have a fun time! If you would like to be a part of it\, please email your dating info to our email: info@gamengrounds.com \nIf we end up not having enough people or not any good match ups\, we can do a singles group and you can play games together!
URL:https://gamengrounds.com/event/singles-night-feb-14/
ATTACH;FMTTYPE=image/png:https://gamengrounds.com/wp-content/uploads/2026/01/Singles-Night.png
END:VEVENT
END:VCALENDAR