BEGIN:VCALENDAR
VERSION:2.0
PRODID:-//Game N Grounds - Gaming in Chatsworth - ECPv6.9.0//NONSGML v1.0//EN
CALSCALE:GREGORIAN
METHOD:PUBLISH
X-WR-CALNAME:Game N Grounds - Gaming in Chatsworth
X-ORIGINAL-URL:https://gamengrounds.com
X-WR-CALDESC:Events for Game N Grounds - Gaming in Chatsworth
REFRESH-INTERVAL;VALUE=DURATION:PT1H
X-Robots-Tag:noindex
X-PUBLISHED-TTL:PT1H
BEGIN:VTIMEZONE
TZID:America/Los_Angeles
BEGIN:DAYLIGHT
TZOFFSETFROM:-0800
TZOFFSETTO:-0700
TZNAME:PDT
DTSTART:20240310T100000
END:DAYLIGHT
BEGIN:STANDARD
TZOFFSETFROM:-0700
TZOFFSETTO:-0800
TZNAME:PST
DTSTART:20241103T090000
END:STANDARD
END:VTIMEZONE
BEGIN:VEVENT
DTSTART;TZID=America/Los_Angeles:20240412T190000
DTEND;TZID=America/Los_Angeles:20240412T210000
DTSTAMP:20260419T221929
CREATED:20240402T031847Z
LAST-MODIFIED:20240402T031847Z
UID:1669-1712948400-1712955600@gamengrounds.com
SUMMARY:Studio Ghibli Music Night
DESCRIPTION:Live musicians playing Studio Ghibli music for all of us to enjoy.
URL:https://gamengrounds.com/event/studio-ghibli-music-night/
ATTACH;FMTTYPE=image/webp:https://gamengrounds.com/wp-content/uploads/2024/04/Studio-Ghibil-Music-Night.webp
END:VEVENT
END:VCALENDAR