BEGIN:VCALENDAR
VERSION:2.0
PRODID:-//Game N Grounds - Gaming in Chatsworth - ECPv6.9.0//NONSGML v1.0//EN
CALSCALE:GREGORIAN
METHOD:PUBLISH
X-WR-CALNAME:Game N Grounds - Gaming in Chatsworth
X-ORIGINAL-URL:https://gamengrounds.com
X-WR-CALDESC:Events for Game N Grounds - Gaming in Chatsworth
REFRESH-INTERVAL;VALUE=DURATION:PT1H
X-Robots-Tag:noindex
X-PUBLISHED-TTL:PT1H
BEGIN:VTIMEZONE
TZID:America/Los_Angeles
BEGIN:DAYLIGHT
TZOFFSETFROM:-0800
TZOFFSETTO:-0700
TZNAME:PDT
DTSTART:20240310T100000
END:DAYLIGHT
BEGIN:STANDARD
TZOFFSETFROM:-0700
TZOFFSETTO:-0800
TZNAME:PST
DTSTART:20241103T090000
END:STANDARD
END:VTIMEZONE
BEGIN:VEVENT
DTSTART;TZID=America/Los_Angeles:20240409T180000
DTEND;TZID=America/Los_Angeles:20240409T200000
DTSTAMP:20260422T033238
CREATED:20240502T200221Z
LAST-MODIFIED:20240502T200221Z
UID:2187-1712685600-1712692800@gamengrounds.com
SUMMARY:Trivia Night...once again...at GNG!
DESCRIPTION:Come test your random knowledge brain and gain some bragging rights!  Come with some friends or make some by joining with a team that needs some team members! \nLocation: Los Angeles\, 21725 Devonshire St\, Chatsworth\, CA 91311\, USA
URL:https://gamengrounds.com/event/trivia-night-once-again-at-gng-2/
ATTACH;FMTTYPE=image/png:https://gamengrounds.com/wp-content/uploads/2024/05/Purple-and-Blue-Modern-Neon-Trivia-Night-Poster-2.png
END:VEVENT
END:VCALENDAR